BEGIN:VCALENDAR
VERSION:2.0
PRODID:-//wp-events-plugin.com//6.6.4.4//EN
TZID:America/Los_Angeles
X-WR-TIMEZONE:America/Los_Angeles
BEGIN:VEVENT
UID:581@playingatlearning.org
DTSTART;TZID=America/Los_Angeles:20241103T080000
DTEND;TZID=America/Los_Angeles:20241103T130000
DTSTAMP:20241102T162339Z
URL:https://www.playingatlearning.org/events/eb-meet-1-quarry-lane-school-
 2/
SUMMARY:NorCal FTC East Bay Meet 1 - Quarry Lane School
DESCRIPTION:Sign up to be a Volunteer - click here\nOrganized by FIRST Tech
  Challenge (FTC)  - no host team\n\nThis information is provided for volu
 nteers only. Space is limited and we ask that only the teams who are part 
 of the East Bay league to attend this meet.\n\nInformation about INTO THE 
 DEEP Presented by RTX:  Game and Season Information
CATEGORIES:FTC
LOCATION:The Quarry Lane School\, 6363 Tassajara Rd\, Dublin\, CA\, 94568\,
  United States
GEO:37.727838;-121.870626
X-APPLE-STRUCTURED-LOCATION;VALUE=URI;X-ADDRESS=6363 Tassajara Rd\, Dublin\
 , CA\, 94568\, United States;X-APPLE-RADIUS=100;X-TITLE=The Quarry Lane Sc
 hool:geo:37.727838,-121.870626
END:VEVENT
BEGIN:VTIMEZONE
TZID:America/Los_Angeles
X-LIC-LOCATION:America/Los_Angeles
BEGIN:STANDARD
DTSTART:20241103T010000
TZOFFSETFROM:-0700
TZOFFSETTO:-0800
TZNAME:PST
END:STANDARD
END:VTIMEZONE
END:VCALENDAR