BEGIN:VCALENDAR
VERSION:2.0
PRODID:-//wp-events-plugin.com//6.6.4.4//EN
TZID:America/Los_Angeles
X-WR-TIMEZONE:America/Los_Angeles
BEGIN:VEVENT
UID:337@playingatlearning.org
DTSTART;TZID=America/Los_Angeles:20210123T080000
DTEND;TZID=America/Los_Angeles:20210123T180000
DTSTAMP:20201121T002854Z
URL:https://www.playingatlearning.org/events/jan23-remote-norcalfll-qt/
SUMMARY:NorCal FLL Remote QT - hosted by FRC Team #3501 Firebots
DESCRIPTION:Official Qualifier Tournament\, Remote Event\, Organized by Fre
 mont HS FRC Team #3501 Firebots\, Sunnyvale\n\nSign up to be a Volunteer 
   Not sure what role or how to sign up? Send an email to volunteer@playin
 gatlearning.org and a volunteer specialist from Playing At Learning will r
 each out and help you get connected into an event.\n\nInformation about th
 e FIRST LEGO League RePlay Season Challenge:    Overview\,  Project/Gam
 e Updates\,  Robot Game Rulebook \,  Challenge Resources\n\nEvent will
  either have 12 teams or 16 teams.\n\nNorCal FLL Remote Qualifying Tournam
 ent\, using Hopin\n Event Live at 8am\nOpening Ceremony at 8:45am\nTeam J
 udging begins at 9:15am\nRobot Game Practice Rounds start at 9:15am\nCeleb
 ration &amp\; Online Award Ceremony starts at 5:00pm\nLink for online open
 ing &amp\; award ceremony for family\, friends\, spectators:  &lt\;GoToWe
 binar or Twitch link will be posted here&gt\;
CATEGORIES:FLL Challenge
END:VEVENT
BEGIN:VTIMEZONE
TZID:America/Los_Angeles
X-LIC-LOCATION:America/Los_Angeles
BEGIN:STANDARD
DTSTART:20201101T010000
TZOFFSETFROM:-0700
TZOFFSETTO:-0800
TZNAME:PST
END:STANDARD
END:VTIMEZONE
END:VCALENDAR