BEGIN:VCALENDAR
VERSION:2.0
PRODID:-//wp-events-plugin.com//6.6.4.4//EN
TZID:America/Los_Angeles
X-WR-TIMEZONE:America/Los_Angeles
BEGIN:VEVENT
UID:410@playingatlearning.org
DTSTART;TZID=America/Los_Angeles:20221105T080000
DTEND;TZID=America/Los_Angeles:20221105T170000
DTSTAMP:20221104T014245Z
URL:https://www.playingatlearning.org/events/norcal-fll-challenge-qt-hoste
 d-by-amazon/
SUMMARY:NorCal FLL Challenge QT - hosted by Amazon
DESCRIPTION:Sign up to be a Volunteer     Volunteer Roles      How To 
 Volunteer\n\nIMPORTANT: This event has a mask requirement for all particip
 ants\, volunteers and visitors. \n\n&nbsp\;\n\nOverview Schedule\nTeams C
 heck-In at 8am\nOpening Ceremony at 8:35am\nOfficial\, Scored Robot Game R
 ounds  10:45am - 4:15pm\nAward Ceremony at 5:30pm\n        Watch the 
 SUPERPOWEREDSM Challenge Video or Check out the Game and Season Overview\n
 \n&nbsp\;\n\n&nbsp\;\n\n&nbsp\;
CATEGORIES:FLL Challenge
LOCATION:Amazon - EPA\, 2100 University Avenue\, East Palo Alto\, CA\, 9430
 3\, United States
GEO:37.463095;-122.140807
X-APPLE-STRUCTURED-LOCATION;VALUE=URI;X-ADDRESS=2100 University Avenue\, Ea
 st Palo Alto\, CA\, 94303\, United States;X-APPLE-RADIUS=100;X-TITLE=Amazo
 n - EPA:geo:37.463095,-122.140807
END:VEVENT
BEGIN:VTIMEZONE
TZID:America/Los_Angeles
X-LIC-LOCATION:America/Los_Angeles
BEGIN:DAYLIGHT
DTSTART:20220313T030000
TZOFFSETFROM:-0800
TZOFFSETTO:-0700
TZNAME:PDT
END:DAYLIGHT
END:VTIMEZONE
END:VCALENDAR