BEGIN:VCALENDAR
VERSION:2.0
PRODID:-//wp-events-plugin.com//6.6.4.4//EN
TZID:America/Los_Angeles
X-WR-TIMEZONE:America/Los_Angeles
BEGIN:VEVENT
UID:420@playingatlearning.org
DTSTART;TZID=America/Los_Angeles:20221120T080000
DTEND;TZID=America/Los_Angeles:20221120T170000
DTSTAMP:20221104T020013Z
URL:https://www.playingatlearning.org/events/norcal-fll-challenge-qt-hoste
 d-by-santa-teresa-high-school-san-jose/
SUMMARY:NorCal FLL Challenge QT - hosted by Santa Teresa High School\, San 
 Jose
DESCRIPTION:Sign up to be a Volunteer     Volunteer Roles      How To 
 Volunteer\n\nIMPORTANT: Masking is required for all participants\, visitor
 s and volunteers.\n\nOverview Schedule\nTeams Check-In at 8am\nOpening Cer
 emony at 8:45am\nOfficial\, scored Robot Games  10:40am - 3:40pm\nAward C
 eremony at 5:30pm\n        Watch the SUPERPOWEREDSM Challenge Video or
  Check out the Game and Season Overview\n\n&nbsp\;\n\n&nbsp\;
CATEGORIES:FLL Challenge
LOCATION:Santa Teresa High School\, 6150 Snell Avenue\, San Jose\, CA\, 951
 23\, SV\, United States
GEO:37.235137;-121.828884
X-APPLE-STRUCTURED-LOCATION;VALUE=URI;X-ADDRESS=6150 Snell Avenue\, San Jos
 e\, CA\, 95123\, SV\, United States;X-APPLE-RADIUS=100;X-TITLE=Santa Teres
 a High School:geo:37.235137,-121.828884
END:VEVENT
BEGIN:VTIMEZONE
TZID:America/Los_Angeles
X-LIC-LOCATION:America/Los_Angeles
BEGIN:STANDARD
DTSTART:20221106T010000
TZOFFSETFROM:-0700
TZOFFSETTO:-0800
TZNAME:PST
END:STANDARD
END:VTIMEZONE
END:VCALENDAR