BEGIN:VCALENDAR
VERSION:2.0
PRODID:-//wp-events-plugin.com//6.6.4.4//EN
TZID:America/Los_Angeles
X-WR-TIMEZONE:America/Los_Angeles
BEGIN:VEVENT
UID:626@playingatlearning.org
DTSTART;TZID=America/Los_Angeles:20250426T080000
DTEND;TZID=America/Los_Angeles:20250426T180000
DTSTAMP:20250319T014734Z
URL:https://www.playingatlearning.org/events/norcal-fll-challenge-spring-l
 eague-sunnyvale/
SUMMARY:NorCal FLL Challenge Spring League - TKA Sunnyvale
DESCRIPTION:\nSign up to be a Volunteer     Volunteer Roles      How T
 o Volunteer\n\nIMPORTANT: Masking is optional but recommended for all part
 icipants\, volunteers and visitors.  If you are not well\, please do not 
 attend\, masked or not.\n\nTeam registration is handled via mylumi.playing
 atlearning.org\n\nOverview Schedule\nTeams Check-In at 8am\nOpening Ceremo
 ny at 8:45am\nAward Ceremony at 5:30pm\n        Watch the SUBMERGEDSM
  Challenge Video or Check out the Game and Season Overview\n\nAll SUBMERG
 EDSM  resources can be found here \n\nWhat is a Spring League Tournamen
 t?\nSpring League (aka Recreational League) is like a qualifier except the
 re is no advancement.   We have added these tournaments later in the sea
 son for teams that need or want additional time before going to an event.
   Learn more about the difference between our 2 league seasons here.\n\n&
 nbsp\;
CATEGORIES:FLL Challenge
LOCATION:The King's Academy [back entrance]\, 790 E Duane Ave \, Sunnyvale\
 , CA\, 94085\, United States
GEO:37.387094;-122.010174
X-APPLE-STRUCTURED-LOCATION;VALUE=URI;X-ADDRESS=790 E Duane Ave \, Sunnyval
 e\, CA\, 94085\, United States;X-APPLE-RADIUS=100;X-TITLE=The King's Acade
 my [back entrance]:geo:37.387094,-122.010174
END:VEVENT
BEGIN:VTIMEZONE
TZID:America/Los_Angeles
X-LIC-LOCATION:America/Los_Angeles
BEGIN:DAYLIGHT
DTSTART:20250309T030000
TZOFFSETFROM:-0800
TZOFFSETTO:-0700
TZNAME:PDT
END:DAYLIGHT
END:VTIMEZONE
END:VCALENDAR