BEGIN:VCALENDAR
VERSION:2.0
PRODID:-//wp-events-plugin.com//6.6.4.4//EN
TZID:America/Los_Angeles
X-WR-TIMEZONE:America/Los_Angeles
BEGIN:VEVENT
UID:455@playingatlearning.org
DTSTART;TZID=America/Los_Angeles:20230513T080000
DTEND;TZID=America/Los_Angeles:20230513T170000
DTSTAMP:20230302T191516Z
URL:https://www.playingatlearning.org/events/norcal-fll-challenge-spring-l
 eague-tournament-the-play-space-san-jose/
SUMMARY:NorCal FLL Challenge Spring League Tournament - The Play Space\, Sa
 n Jose
DESCRIPTION:Sign up to be a Volunteer     Volunteer Roles      How To 
 Volunteer\n\nMasking is recommended for all participants\, visitors and vo
 lunteers.\n\nOverview Schedule\nTeams Check-In at 8am\nOpening Ceremony at
  8:45am\nOfficial\, scored Robot Games  10:40am - 3:40pm\nAward Ceremony 
 at 5:30pm\n        Watch the SUPERPOWEREDSM Challenge Video or Check o
 ut the Game and Season Overview\n\n&nbsp\;\n\n&nbsp\;
CATEGORIES:FLL Challenge
LOCATION:The Play Space\, 2215 Oakland Road\, Suite B\, San Jose\, CA\, 951
 31\, NorCal\, United States
GEO:37.399803;-121.903442
X-APPLE-STRUCTURED-LOCATION;VALUE=URI;X-ADDRESS=2215 Oakland Road\, Suite B
 \, San Jose\, CA\, 95131\, NorCal\, United States;X-APPLE-RADIUS=100;X-TIT
 LE=The Play Space:geo:37.399803,-121.903442
END:VEVENT
BEGIN:VTIMEZONE
TZID:America/Los_Angeles
X-LIC-LOCATION:America/Los_Angeles
BEGIN:DAYLIGHT
DTSTART:20230312T030000
TZOFFSETFROM:-0800
TZOFFSETTO:-0700
TZNAME:PDT
END:DAYLIGHT
END:VTIMEZONE
END:VCALENDAR