BEGIN:VCALENDAR
VERSION:2.0
PRODID:-//wp-events-plugin.com//6.6.4.4//EN
TZID:America/Los_Angeles
X-WR-TIMEZONE:America/Los_Angeles
BEGIN:VEVENT
UID:338@playingatlearning.org
DTSTART;TZID=America/Los_Angeles:20210110T080000
DTEND;TZID=America/Los_Angeles:20210110T180000
DTSTAMP:20201214T231721Z
URL:https://www.playingatlearning.org/events/norcal-fll-remote-qt-hosted-b
 y-intel/
SUMMARY:NorCal FLL Remote QT - hosted by Intel Folsom
DESCRIPTION:Official Qualifier Tournament\, Remote Event\, Organized by Int
 el Folsom\n\nVolunteer link coming soon.   Not sure what role or how to 
 sign up?  Send an email to volunteer@playingatlearning.org and a voluntee
 r specialist from Playing At Learning will reach out and help you get conn
 ected into an event.\n\nInformation about the FIRST LEGO League RePlay Sea
 son Challenge:    Overview\,  Project/Game Updates\,  Robot Game Rule
 book \,  Challenge Resources\n\nEvent will either have 12 teams or 16 te
 ams.\n\nNorCal FLL Remote Qualifying Tournament\, using Hopin\n Event Liv
 e at 8am\nOpening Ceremony at 8:45am\nTeam Judging begins at 9:15am\nRobot
  Game Practice Rounds start at 9:15am\nCelebration &amp\; Online Award Cer
 emony starts at 5:00pm\nLink for online opening &amp\; award ceremony for 
 family\, friends\, spectators:  &lt\;GoToWebinar or Twitch link will be p
 osted here&gt\;
CATEGORIES:FLL Challenge
END:VEVENT
BEGIN:VTIMEZONE
TZID:America/Los_Angeles
X-LIC-LOCATION:America/Los_Angeles
BEGIN:STANDARD
DTSTART:20201101T010000
TZOFFSETFROM:-0700
TZOFFSETTO:-0800
TZNAME:PST
END:STANDARD
END:VTIMEZONE
END:VCALENDAR