BEGIN:VCALENDAR
VERSION:2.0
PRODID:-//wp-events-plugin.com//6.6.4.4//EN
TZID:America/Los_Angeles
X-WR-TIMEZONE:America/Los_Angeles
BEGIN:VEVENT
UID:588@playingatlearning.org
DTSTART;TZID=America/Los_Angeles:20250111T080000
DTEND;TZID=America/Los_Angeles:20250111T130000
DTSTAMP:20241018T174131Z
URL:https://www.playingatlearning.org/events/norcal-ftc-north-east-league-
 meet-3/
SUMMARY:NorCal FTC - North East League Meet 3
DESCRIPTION:Sign up to be a Volunteer – click here\n\nThis information i
 s provided for volunteers only. Space is limited and we ask that only the 
 teams who are part of the North East League attend this meet.\n\nInformati
 on about INTO THE DEEP Presented by RTX:  Game and Season Information
CATEGORIES:FTC
LOCATION:Einstein Middle School\, 9326 Mirandy Dr\, Sacramento\, CA\, 95826
 \, United States
GEO:38.547965;-121.352089
X-APPLE-STRUCTURED-LOCATION;VALUE=URI;X-ADDRESS=9326 Mirandy Dr\, Sacrament
 o\, CA\, 95826\, United States;X-APPLE-RADIUS=100;X-TITLE=Einstein Middle 
 School:geo:38.547965,-121.352089
END:VEVENT
BEGIN:VTIMEZONE
TZID:America/Los_Angeles
X-LIC-LOCATION:America/Los_Angeles
BEGIN:STANDARD
DTSTART:20241103T010000
TZOFFSETFROM:-0700
TZOFFSETTO:-0800
TZNAME:PST
END:STANDARD
END:VTIMEZONE
END:VCALENDAR