BEGIN:VCALENDAR
VERSION:2.0
PRODID:-//wp-events-plugin.com//6.6.4.4//EN
TZID:America/Los_Angeles
X-WR-TIMEZONE:America/Los_Angeles
BEGIN:VEVENT
UID:87@playingatlearning.org
DTSTART;TZID=America/Los_Angeles:20171104T080000
DTEND;TZID=America/Los_Angeles:20171104T170000
DTSTAMP:20170921T041357Z
URL:https://www.playingatlearning.org/events/norcal-nov-04-intel-santa-cla
 ra-fll-qt/
SUMMARY:NorCal Nov 04 - Intel Santa Clara FLL QT
DESCRIPTION:Sign up to be a Volunteer  - zip 95054\nOrganized in coordinat
 ion with FIRST Robotics Competition (FRC) Team 1967\, The Janksters\n\nDay
  Overview\nTeams Check-In at 8am\nCoaches Meeting at 8:30am\nOpening Cerem
 ony and Visitors Welcome at 9am\nRobot Rounds (and Team Judging) start at 
 9:30am\n.   -&gt\; Learn about HydroDynamics Challenge Overview\,  Video
 s: Project\, Robot Game\nAward Ceremony at 4:30pm\nDetailed team schedule
   - teams are randomly assigned a pit number\n\nCapacity for 16 teams\n\n
 Parking on south side of building\, under solar panels. Enter from southwe
 st side of building - through cafeteria gate
CATEGORIES:FLL Challenge
LOCATION:Intel Santa Clara\, 3600 Juliette Lane\, Building SC12\, Santa Cla
 ra\, CA\, 95054\, SV\, United States
GEO:37.3859181;-121.96648590000001
X-APPLE-STRUCTURED-LOCATION;VALUE=URI;X-ADDRESS=3600 Juliette Lane\, Buildi
 ng SC12\, Santa Clara\, CA\, 95054\, SV\, United States;X-APPLE-RADIUS=100
 ;X-TITLE=Intel Santa Clara:geo:37.3859181,-121.96648590000001
END:VEVENT
BEGIN:VTIMEZONE
TZID:America/Los_Angeles
X-LIC-LOCATION:America/Los_Angeles
BEGIN:DAYLIGHT
DTSTART:20170312T030000
TZOFFSETFROM:-0800
TZOFFSETTO:-0700
TZNAME:PDT
END:DAYLIGHT
END:VTIMEZONE
END:VCALENDAR