BEGIN:VCALENDAR
VERSION:2.0
PRODID:-//wp-events-plugin.com//6.6.4.4//EN
TZID:America/Los_Angeles
X-WR-TIMEZONE:America/Los_Angeles
BEGIN:VEVENT
UID:172@playingatlearning.org
DTSTART;TZID=America/Los_Angeles:20181104T080000
DTEND;TZID=America/Los_Angeles:20181104T170000
DTSTAMP:20181019T044838Z
URL:https://www.playingatlearning.org/events/norcal-nov-04-intel-santaclar
 a-fll-qt-2018/
SUMMARY:NorCal Nov 04 - Intel Santa Clara FLL QT
DESCRIPTION:No volunteers needed!\nOrganized in coordination with FIRST Rob
 otics Competition (FRC) Team 1967\, The Janksters\n\nSchedule\nTeams Check
 -In at 8am\nCoaches Meeting at 8:30am\nOpening Ceremony and Visitors Welco
 me at 9am\nRobot Rounds (and Team Judging) start at 9:30am\n-&gt\; Learn a
 bout Into Orbit Challenge Overview\nAward Ceremony at 4:30pm\nDetailed t
 eam schedule  - teams are randomly assigned a pit number\n\nCapacity for 
 16 teams\n\nParking on south side of building\, under solar panels. Enter 
 from southwest side of building - through cafeteria gate
CATEGORIES:FLL Challenge
LOCATION:Intel Santa Clara\, 3600 Juliette Lane\, Building SC12\, Santa Cla
 ra\, CA\, 95054\, SV\, United States
GEO:37.3859181;-121.96648590000001
X-APPLE-STRUCTURED-LOCATION;VALUE=URI;X-ADDRESS=3600 Juliette Lane\, Buildi
 ng SC12\, Santa Clara\, CA\, 95054\, SV\, United States;X-APPLE-RADIUS=100
 ;X-TITLE=Intel Santa Clara:geo:37.3859181,-121.96648590000001
END:VEVENT
BEGIN:VTIMEZONE
TZID:America/Los_Angeles
X-LIC-LOCATION:America/Los_Angeles
BEGIN:STANDARD
DTSTART:20181104T010000
TZOFFSETFROM:-0700
TZOFFSETTO:-0800
TZNAME:PST
END:STANDARD
END:VTIMEZONE
END:VCALENDAR