BEGIN:VCALENDAR
VERSION:2.0
PRODID:-//wp-events-plugin.com//6.6.4.4//EN
TZID:America/Los_Angeles
X-WR-TIMEZONE:America/Los_Angeles
BEGIN:VEVENT
UID:241@playingatlearning.org
DTSTART;TZID=America/Los_Angeles:20191109T080000
DTEND;TZID=America/Los_Angeles:20191109T170000
DTSTAMP:20190915T225216Z
URL:https://www.playingatlearning.org/events/norcal-nov-09-amazon-fll-qt/
SUMMARY:NorCal Nov 09 - Amazon FLL QT
DESCRIPTION:Sign up to be a Volunteer\nVolunteer Roles\, How To Volunteer\
 , More information about volunteering\n\n\nSCHEDULE\n\nTeams Check-In &am
 p\; Pit setup at 8am\nCoaches Meeting at 8:30am\nOpening Ceremony and Visi
 tors Welcome at 9am\nRobot Rounds (and Team Judging) start at 9:30am\n-&gt
 \; Learn about CITY SHAPER Challenge Overview\, Game Details\nAward Ceremo
 ny at 4:30pm\nDetailed team schedule  - teams are randomly assigned a pit
  number\nCapacity for 16 teams\n
CATEGORIES:FLL Challenge
LOCATION:Amazon - Sunnyvale\, 1100 Enterprise Way\, Sunnyvale\, CA\, 94089\
 , PEN\, United States
GEO:37.408475;-122.036421
X-APPLE-STRUCTURED-LOCATION;VALUE=URI;X-ADDRESS=1100 Enterprise Way\, Sunny
 vale\, CA\, 94089\, PEN\, United States;X-APPLE-RADIUS=100;X-TITLE=Amazon 
 - Sunnyvale:geo:37.408475,-122.036421
END:VEVENT
BEGIN:VTIMEZONE
TZID:America/Los_Angeles
X-LIC-LOCATION:America/Los_Angeles
BEGIN:STANDARD
DTSTART:20191103T010000
TZOFFSETFROM:-0700
TZOFFSETTO:-0800
TZNAME:PST
END:STANDARD
END:VTIMEZONE
END:VCALENDAR