BEGIN:VCALENDAR
VERSION:2.0
PRODID:-//wp-events-plugin.com//6.6.4.4//EN
TZID:America/Los_Angeles
X-WR-TIMEZONE:America/Los_Angeles
BEGIN:VEVENT
UID:242@playingatlearning.org
DTSTART;TZID=America/Los_Angeles:20191109T080000
DTEND;TZID=America/Los_Angeles:20191109T170000
DTSTAMP:20190915T225219Z
URL:https://www.playingatlearning.org/events/norcal-nov-09-intel-santa-cla
 ra-fll-qt/
SUMMARY:NorCal Nov 09 - Intel Santa Clara FLL QT
DESCRIPTION: \nOrganized in coordination with FIRST Robotics Competition (
 FRC) Team 1967\, The Janksters\n\nSign up to be a Volunteer\nVolunteer Rol
 es\, How To Volunteer\, More information about volunteering\n\n\nParking
  on south side of building\, under solar panels. Enter from southwest side
  of building - through cafeteria gate\n\nSCHEDULE\nTeams Check-In &amp\; P
 it setup at 8am\nCoaches Meeting at 8:30am\nOpening Ceremony and Visitors 
 Welcome at 9am\nRobot Rounds (and Team Judging) start at 9:30am\n-&gt\; Le
 arn about CITY SHAPER Challenge Overview\, Game Details\nAward Ceremony at
  4:30pm\nDetailed team schedule  - teams are randomly assigned a pit numb
 er\nCapacity for 16 teams\n&nbsp\;
CATEGORIES:FLL Challenge
LOCATION:Intel Santa Clara\, 3600 Juliette Lane\, Building SC12\, Santa Cla
 ra\, CA\, 95054\, SV\, United States
GEO:37.3859181;-121.96648590000001
X-APPLE-STRUCTURED-LOCATION;VALUE=URI;X-ADDRESS=3600 Juliette Lane\, Buildi
 ng SC12\, Santa Clara\, CA\, 95054\, SV\, United States;X-APPLE-RADIUS=100
 ;X-TITLE=Intel Santa Clara:geo:37.3859181,-121.96648590000001
END:VEVENT
BEGIN:VTIMEZONE
TZID:America/Los_Angeles
X-LIC-LOCATION:America/Los_Angeles
BEGIN:STANDARD
DTSTART:20191103T010000
TZOFFSETFROM:-0700
TZOFFSETTO:-0800
TZNAME:PST
END:STANDARD
END:VTIMEZONE
END:VCALENDAR