BEGIN:VCALENDAR
VERSION:2.0
PRODID:-//wp-events-plugin.com//6.6.4.4//EN
TZID:America/Los_Angeles
X-WR-TIMEZONE:America/Los_Angeles
BEGIN:VEVENT
UID:243@playingatlearning.org
DTSTART;TZID=America/Los_Angeles:20191109T080000
DTEND;TZID=America/Los_Angeles:20191109T170000
DTSTAMP:20190915T230016Z
URL:https://www.playingatlearning.org/events/norcal-nov-09-justin-siena-na
 pa-fll-qt/
SUMMARY:NorCal Nov 09 - Justin-Siena HS\, Napa FLL QT
DESCRIPTION:\nOrganized by FIRST Tech Challenge (FTC) Team 10434 Negative K
 elvin\n\n\nSign up to be a Volunteer\nVolunteer Roles\, How To Volunteer\
 , More information about volunteering\n\n\nSCHEDULE\n\nTeams Check-In &am
 p\; Pit setup at 8am\nCoaches Meeting at 8:30am\nOpening Ceremony and Visi
 tors Welcome at 9am\nRobot Rounds (and Team Judging) start at 9:30am\n-&gt
 \; Learn about CITY SHAPER Challenge Overview\, Game Details\nAward Ceremo
 ny at 4:30pm\nDetailed team schedule  - teams are randomly assigned a pit
  number\nCapacity for 16 teams\nParking onsite at school
CATEGORIES:FLL Challenge
LOCATION:Justin-Siena High School\, 4026 Maher Street\, Napa\, CA\, 94558\,
  CAP\, United States
GEO:38.330919;-122.321181
X-APPLE-STRUCTURED-LOCATION;VALUE=URI;X-ADDRESS=4026 Maher Street\, Napa\, 
 CA\, 94558\, CAP\, United States;X-APPLE-RADIUS=100;X-TITLE=Justin-Siena H
 igh School:geo:38.330919,-122.321181
END:VEVENT
BEGIN:VTIMEZONE
TZID:America/Los_Angeles
X-LIC-LOCATION:America/Los_Angeles
BEGIN:STANDARD
DTSTART:20191103T010000
TZOFFSETFROM:-0700
TZOFFSETTO:-0800
TZNAME:PST
END:STANDARD
END:VTIMEZONE
END:VCALENDAR