BEGIN:VCALENDAR
VERSION:2.0
PRODID:-//wp-events-plugin.com//6.6.4.4//EN
TZID:America/Los_Angeles
X-WR-TIMEZONE:America/Los_Angeles
BEGIN:VEVENT
UID:198@playingatlearning.org
DTSTART;TZID=America/Los_Angeles:20181110T080000
DTEND;TZID=America/Los_Angeles:20181110T170000
DTSTAMP:20181005T014025Z
URL:https://www.playingatlearning.org/events/norcal-nov-10-maxim-fll-qt/
SUMMARY:NorCal Nov 10 - Maxim San Jose FLL QT
DESCRIPTION:Sign up to be a Volunteer   (Volunteer Roles\, How To Volunte
 er\, More information about volunteering)\nDay Overview\nTeams Check-In a
 t 8am\nCoaches Meeting at 8:30am\nOpening Ceremony and Visitors Welcome at
  9am\nRobot Rounds (and Team Judging) start at 9:30am\n.   -&gt\; Learn a
 bout Into Orbit Challenge Overview\nAward Ceremony at 4:30pm\nDetailed tea
 m schedule  - teams are randomly assigned a pit number\nCapacity for 16 t
 eams
CATEGORIES:FLL Challenge
LOCATION:Maxim Integrated\, 160 Rio Robles\, San Jose\, CA\, 95134\, SV\, U
 nited States
GEO:37.4054899;-121.94997739999997
X-APPLE-STRUCTURED-LOCATION;VALUE=URI;X-ADDRESS=160 Rio Robles\, San Jose\,
  CA\, 95134\, SV\, United States;X-APPLE-RADIUS=100;X-TITLE=Maxim Integrat
 ed:geo:37.4054899,-121.94997739999997
END:VEVENT
BEGIN:VTIMEZONE
TZID:America/Los_Angeles
X-LIC-LOCATION:America/Los_Angeles
BEGIN:STANDARD
DTSTART:20181104T010000
TZOFFSETFROM:-0700
TZOFFSETTO:-0800
TZNAME:PST
END:STANDARD
END:VTIMEZONE
END:VCALENDAR