BEGIN:VCALENDAR
VERSION:2.0
PRODID:-//wp-events-plugin.com//6.6.4.4//EN
TZID:America/Los_Angeles
X-WR-TIMEZONE:America/Los_Angeles
BEGIN:VEVENT
UID:250@playingatlearning.org
DTSTART;TZID=America/Los_Angeles:20191110T080000
DTEND;TZID=America/Los_Angeles:20191110T170000
DTSTAMP:20190916T012143Z
URL:https://www.playingatlearning.org/events/norcal-nov-10-nueva-school-sa
 nmateo-fll-qt/
SUMMARY:NorCal Nov 10 - The Nueva School\, San Mateo FLL QT
DESCRIPTION:Organized by FIRST Robotics Competition (FRC) Team 4904 Bot Pro
 voking\n\nSign up to be a Volunteer\nVolunteer Roles\, How To Volunteer\,
  More information about volunteering\n\n\nSCHEDULE\n\nTeams Check-In &amp
 \; Pit setup at 8am\nCoaches Meeting at 8:30am\nOpening Ceremony and Visit
 ors Welcome at 9am\nRobot Rounds (and Team Judging) start at 9:30am\n-&gt\
 ; Learn about CITY SHAPER Challenge Overview\, Game Details\nAward Ceremon
 y at 4:30pm\nDetailed team schedule  - teams are randomly assigned a pit 
 number\nCapacity for 16 teams\nParking is very limited at the school - ple
 ase carpool or use public transportation/mass transit  (CalTrain - Hillsd
 ale station)
CATEGORIES:FLL Challenge
LOCATION:The Nueva School\,  Bay Meadows Campus\, 131 East 28th Avenue\, Sa
 n Mateo\, CA\, 94403\, PEN\, United States
GEO:37.5439281;-122.29962610000001
X-APPLE-STRUCTURED-LOCATION;VALUE=URI;X-ADDRESS=131 East 28th Avenue\, San 
 Mateo\, CA\, 94403\, PEN\, United States;X-APPLE-RADIUS=100;X-TITLE=The Nu
 eva School\,  Bay Meadows Campus:geo:37.5439281,-122.29962610000001
END:VEVENT
BEGIN:VTIMEZONE
TZID:America/Los_Angeles
X-LIC-LOCATION:America/Los_Angeles
BEGIN:STANDARD
DTSTART:20191103T010000
TZOFFSETFROM:-0700
TZOFFSETTO:-0800
TZNAME:PST
END:STANDARD
END:VTIMEZONE
END:VCALENDAR