BEGIN:VCALENDAR
VERSION:2.0
PRODID:-//wp-events-plugin.com//6.6.4.4//EN
TZID:America/Los_Angeles
X-WR-TIMEZONE:America/Los_Angeles
BEGIN:VEVENT
UID:199@playingatlearning.org
DTSTART;TZID=America/Los_Angeles:20181111T080000
DTEND;TZID=America/Los_Angeles:20181111T170000
DTSTAMP:20180926T205703Z
URL:https://www.playingatlearning.org/events/norcal-nov-11-quarrylane-dubl
 in-fll-qt/
SUMMARY:NorCal Nov 11 - Quarry Lane Dublin FLL QT
DESCRIPTION:Sign up to be a Volunteer (link coming soon) - zip code 94568\
 n\nSchedule\nTeams Check-In at 8am\nCoaches Meeting at 8:30am\nOpening Cer
 emony and Visitors Welcome at 9am\nRobot Rounds (and Team Judging) start a
 t 9:30am\n.   -&gt\; Learn about Into Orbit Challenge Overview\nAward C
 eremony at 4:30pm\nDetailed team schedule  - teams are randomly assigned 
 a pit number\nCapacity for 16 teams\nFree Parking at school\n&nbsp\;
CATEGORIES:FLL Challenge
LOCATION:Quarry Lane School\, 6363 Tassajara Road\, Dublin\, CA\, 94568\, E
 B\, United States
GEO:37.7276744;-121.8701428
X-APPLE-STRUCTURED-LOCATION;VALUE=URI;X-ADDRESS=6363 Tassajara Road\, Dubli
 n\, CA\, 94568\, EB\, United States;X-APPLE-RADIUS=100;X-TITLE=Quarry Lane
  School:geo:37.7276744,-121.8701428
END:VEVENT
BEGIN:VTIMEZONE
TZID:America/Los_Angeles
X-LIC-LOCATION:America/Los_Angeles
BEGIN:STANDARD
DTSTART:20181104T010000
TZOFFSETFROM:-0700
TZOFFSETTO:-0800
TZNAME:PST
END:STANDARD
END:VTIMEZONE
END:VCALENDAR