BEGIN:VCALENDAR
VERSION:2.0
PRODID:-//wp-events-plugin.com//6.6.4.4//EN
TZID:America/Los_Angeles
X-WR-TIMEZONE:America/Los_Angeles
BEGIN:VEVENT
UID:105@playingatlearning.org
DTSTART;TZID=America/Los_Angeles:20171111T080000
DTEND;TZID=America/Los_Angeles:20171111T170000
DTSTAMP:20170921T053238Z
URL:https://www.playingatlearning.org/events/norcal-nov-11-st-christopher-
 san-jose-fll-qt/
SUMMARY:NorCal Nov 11 - St. Christopher\, San Jose FLL QT
DESCRIPTION:Sign up to be a Volunteer - zip code 95129 \nDay Overview\nTe
 ams Check-In at 8am\nCoaches Meeting at 8:30am\nOpening Ceremony and Visit
 ors Welcome at 9am\nRobot Rounds (and Team Judging) start at 9:30am\n.  -
 &gt\; Learn about HydroDynamics Challenge Overview\,  Videos: Project\, R
 obot Game\nAward Ceremony at 4:30pm\nDetailed team schedule  - teams are 
 randomly assigned a pit number\nCapacity for 12 teams\n
CATEGORIES:FLL Challenge
LOCATION:St. Christopher School\, 2278 Booksin Avenue\, San Jose\, CA\, 951
 29\, SV\, United States
GEO:37.2831987;-121.9030702
X-APPLE-STRUCTURED-LOCATION;VALUE=URI;X-ADDRESS=2278 Booksin Avenue\, San J
 ose\, CA\, 95129\, SV\, United States;X-APPLE-RADIUS=100;X-TITLE=St. Chris
 topher School:geo:37.2831987,-121.9030702
END:VEVENT
BEGIN:VTIMEZONE
TZID:America/Los_Angeles
X-LIC-LOCATION:America/Los_Angeles
BEGIN:STANDARD
DTSTART:20171105T010000
TZOFFSETFROM:-0700
TZOFFSETTO:-0800
TZNAME:PST
END:STANDARD
END:VTIMEZONE
END:VCALENDAR