BEGIN:VCALENDAR
VERSION:2.0
PRODID:-//wp-events-plugin.com//6.6.4.4//EN
TZID:America/Los_Angeles
X-WR-TIMEZONE:America/Los_Angeles
BEGIN:VEVENT
UID:127@playingatlearning.org
DTSTART;TZID=America/Los_Angeles:20171111T080000
DTEND;TZID=America/Los_Angeles:20171111T170000
DTSTAMP:20171022T185211Z
URL:https://www.playingatlearning.org/events/norcal-nov-11-the-play-space/
SUMMARY:NorCal Nov 11 - The Play Space San Jose FLL QT
DESCRIPTION:Sign up to be a Volunteer   (on firstinspires.org site - logi
 n required) - More Information\n\nSchedule\nTeams Check-In at 8am\nCoaches
  Meeting at 8:30am\nOpening Ceremony and Visitors Welcome at 9am\nRobot Ro
 unds (and Team Judging) start at 9:30am\nAward Ceremony at 4:30pm\nDetaile
 d team schedule  - teams are randomly assigned a pit number\nCapacity for
  16 teams\nParking onsite is limited - please carpool if possible\nNote th
 at there is no garbage pick up at the building - so please plan on taking 
 out any items that you bring onsite (lunch\, snacks\, etc)\nThere are 2 bu
 sinesses that share this building - we are on the north (right most as you
  face the building) side
CATEGORIES:FLL Challenge
LOCATION:The Play Space\, 2215 Oakland Road\, Suite B\, San Jose\, CA\, 951
 31\, NorCal\, United States
GEO:37.399803;-121.903442
X-APPLE-STRUCTURED-LOCATION;VALUE=URI;X-ADDRESS=2215 Oakland Road\, Suite B
 \, San Jose\, CA\, 95131\, NorCal\, United States;X-APPLE-RADIUS=100;X-TIT
 LE=The Play Space:geo:37.399803,-121.903442
END:VEVENT
BEGIN:VTIMEZONE
TZID:America/Los_Angeles
X-LIC-LOCATION:America/Los_Angeles
BEGIN:STANDARD
DTSTART:20171105T010000
TZOFFSETFROM:-0700
TZOFFSETTO:-0800
TZNAME:PST
END:STANDARD
END:VTIMEZONE
END:VCALENDAR