BEGIN:VCALENDAR
VERSION:2.0
PRODID:-//wp-events-plugin.com//6.6.4.4//EN
TZID:America/Los_Angeles
X-WR-TIMEZONE:America/Los_Angeles
BEGIN:VEVENT
UID:98@playingatlearning.org
DTSTART;TZID=America/Los_Angeles:20171112T080000
DTEND;TZID=America/Los_Angeles:20171112T170000
DTSTAMP:20170921T035413Z
URL:https://www.playingatlearning.org/events/norcal-nov-12-cupertino-hs-cu
 pertino-fll-qt/
SUMMARY:NorCal Nov 12 - Cupertino HS\, Cupertino FLL QT
DESCRIPTION:Sign up to be a Volunteer - zip code 95014\nOrganized by FIRS
 T Robotics Competition (FRC) Team 2473 Goldstrikers\nDay Overview:\nTeams
  Check-In at 8am\nCoaches Meeting at 8:30am\nOpening Ceremony and Visitors
  Welcome at 9am\nRobot Rounds (and Team Judging) start at 9:30am\n     
  Learn about HydroDynamics Challenge Overview\,  Videos: Project\, Robot 
 Game\n\nAward Ceremony at 4:30pm\nDetailed team schedule  - teams are ran
 domly assigned a pit number\nCapacity for 16 teams\nParking onsite at scho
 ol
CATEGORIES:FLL Challenge
LOCATION:Cupertino High School\, 10100 Finch Avenue\, Cupertino\, CA\, 9501
 4\, PEN\, United States
GEO:37.319433;-122.009124
X-APPLE-STRUCTURED-LOCATION;VALUE=URI;X-ADDRESS=10100 Finch Avenue\, Cupert
 ino\, CA\, 95014\, PEN\, United States;X-APPLE-RADIUS=100;X-TITLE=Cupertin
 o High School:geo:37.319433,-122.009124
END:VEVENT
BEGIN:VTIMEZONE
TZID:America/Los_Angeles
X-LIC-LOCATION:America/Los_Angeles
BEGIN:STANDARD
DTSTART:20171105T010000
TZOFFSETFROM:-0700
TZOFFSETTO:-0800
TZNAME:PST
END:STANDARD
END:VTIMEZONE
END:VCALENDAR