BEGIN:VCALENDAR
VERSION:2.0
PRODID:-//wp-events-plugin.com//6.6.4.4//EN
TZID:America/Los_Angeles
X-WR-TIMEZONE:America/Los_Angeles
BEGIN:VEVENT
UID:29@playingatlearning.org
DTSTART;TZID=America/Los_Angeles:20161113T080000
DTEND;TZID=America/Los_Angeles:20161113T170000
DTSTAMP:20161008T234145Z
URL:https://www.playingatlearning.org/events/norcal-nov-13-iron-patriot-fe
 st-at-beyer-hs-modesto-fll-qt/
SUMMARY:NorCal Nov 13 - Iron Patriot Fest at Beyer HS\, Modesto FLL QT
DESCRIPTION:Sign up to be a Volunteer - zip code 95355\norganized by FIRST
  Robotics Competition (FRC) Team 4135 Beyer Robotics\n\nSchedule\nTeams C
 heck-In at 8am\nCoaches Meeting at 8:30am\nOpening Ceremony and Visitors W
 elcome at 9am\nRobot Rounds (and Team Judging) start at 9:30am\nAward Cere
 mony at 4:30pm\nDetailed team schedule  - teams are randomly assigned a p
 it number\nCapacity for 16 teams\nParking onsite at school
CATEGORIES:FLL Challenge
LOCATION:Beyer HS\, 1717 Sylvan Avenue\, Modesto\, CA\, 95355\, CAP\, Unite
 d States
GEO:37.690323;-120.966537
X-APPLE-STRUCTURED-LOCATION;VALUE=URI;X-ADDRESS=1717 Sylvan Avenue\, Modest
 o\, CA\, 95355\, CAP\, United States;X-APPLE-RADIUS=100;X-TITLE=Beyer HS:g
 eo:37.690323,-120.966537
END:VEVENT
BEGIN:VTIMEZONE
TZID:America/Los_Angeles
X-LIC-LOCATION:America/Los_Angeles
BEGIN:STANDARD
DTSTART:20161106T010000
TZOFFSETFROM:-0700
TZOFFSETTO:-0800
TZNAME:PST
END:STANDARD
END:VTIMEZONE
END:VCALENDAR