BEGIN:VCALENDAR
VERSION:2.0
PRODID:-//wp-events-plugin.com//6.6.4.4//EN
TZID:America/Los_Angeles
X-WR-TIMEZONE:America/Los_Angeles
BEGIN:VEVENT
UID:27@playingatlearning.org
DTSTART;TZID=America/Los_Angeles:20161113T080000
DTEND;TZID=America/Los_Angeles:20161113T170000
DTSTAMP:20161008T234027Z
URL:https://www.playingatlearning.org/events/norcal-nov-13-pleasant-grove-
 hs-blue-fll-qt/
SUMMARY:NorCal Nov 13 - Pleasant Grove HS BLUE FLL QT
DESCRIPTION:Sign up to be a Volunteer - zip code 95624\nOrganized by FIRST
  Robotics Competition (FRC) Team 2073 EagleForce\nSchedule\nTeams Check-In
  at 8am\nCoaches Meeting at 8:30am\nOpening Ceremony and Visitors Welcome 
 at 9am\nRobot Rounds (and Team Judging) start at 9:30am\nAward Ceremony at
  4:30pm\nDetailed team schedule  - teams are randomly assigned a pit numb
 er\nCapacity for 16 teams\nParking on site - note location of event is at 
 the nearby Middle School  (around the corner from the HS)
CATEGORIES:FLL Challenge
LOCATION:Katherine L. Albiani Middle School\, 9140 Bradshaw Rd\, Elk Grove\
 , CA\, 95624\, CAP\, United States
GEO:38.42625840000001;-121.33563019999997
X-APPLE-STRUCTURED-LOCATION;VALUE=URI;X-ADDRESS=9140 Bradshaw Rd\, Elk Grov
 e\, CA\, 95624\, CAP\, United States;X-APPLE-RADIUS=100;X-TITLE=Katherine 
 L. Albiani Middle School:geo:38.42625840000001,-121.33563019999997
END:VEVENT
BEGIN:VTIMEZONE
TZID:America/Los_Angeles
X-LIC-LOCATION:America/Los_Angeles
BEGIN:STANDARD
DTSTART:20161106T010000
TZOFFSETFROM:-0700
TZOFFSETTO:-0800
TZNAME:PST
END:STANDARD
END:VTIMEZONE
END:VCALENDAR