BEGIN:VCALENDAR
VERSION:2.0
PRODID:-//wp-events-plugin.com//6.6.4.4//EN
TZID:America/Los_Angeles
X-WR-TIMEZONE:America/Los_Angeles
BEGIN:VEVENT
UID:30@playingatlearning.org
DTSTART;TZID=America/Los_Angeles:20161113T080000
DTEND;TZID=America/Los_Angeles:20161113T170000
DTSTAMP:20161009T003336Z
URL:https://www.playingatlearning.org/events/norcal-nov-13-the-play-space-
 eb-san-jose-fll-qt/
SUMMARY:NorCal Nov 13 - The Play Space EB\, San Jose FLL QT
DESCRIPTION:Sign up to be a Volunteer (will go live for sign ups by 10/14
 ) - zip code 95131\nOrganized by Santa Clara University IEEE Student Chap
 ter\nSchedule\nTeams Check-In at 8am\nCoaches Meeting at 8:30am\nOpening C
 eremony and Visitors Welcome at 9am\nRobot Rounds (and Team Judging) start
  at 9:30am\nAward Ceremony at 4:30pm\nDetailed team schedule  - teams are
  randomly assigned a pit number\nCapacity for 16 teams\nParking onsite is 
 limited - please carpool if possible\nNote that there is no garbage pick u
 p at the building - so please plan on taking out any items that you bring 
 onsite (lunch\, snacks\, etc)\nAlternative address for building is 2215 Oa
 kland Road\, Suite B  (north end of the building)
CATEGORIES:FLL Challenge
LOCATION:The Play Space\, 2215 Oakland Road\, Suite B\, San Jose\, CA\, 951
 31\, NorCal\, United States
GEO:37.399803;-121.903442
X-APPLE-STRUCTURED-LOCATION;VALUE=URI;X-ADDRESS=2215 Oakland Road\, Suite B
 \, San Jose\, CA\, 95131\, NorCal\, United States;X-APPLE-RADIUS=100;X-TIT
 LE=The Play Space:geo:37.399803,-121.903442
END:VEVENT
BEGIN:VTIMEZONE
TZID:America/Los_Angeles
X-LIC-LOCATION:America/Los_Angeles
BEGIN:STANDARD
DTSTART:20161106T010000
TZOFFSETFROM:-0700
TZOFFSETTO:-0800
TZNAME:PST
END:STANDARD
END:VTIMEZONE
END:VCALENDAR