BEGIN:VCALENDAR
VERSION:2.0
PRODID:-//wp-events-plugin.com//6.6.4.4//EN
TZID:America/Los_Angeles
X-WR-TIMEZONE:America/Los_Angeles
BEGIN:VEVENT
UID:26@playingatlearning.org
DTSTART;TZID=America/Los_Angeles:20161113T080000
DTEND;TZID=America/Los_Angeles:20161113T170000
DTSTAMP:20161008T234359Z
URL:https://www.playingatlearning.org/events/norcal-nov-13-woodside-hs-woo
 dside-fll-qt/
SUMMARY:NorCal Nov 13 - Woodside HS\, Woodside FLL QT
DESCRIPTION:Sign up to be a Volunteer - zip code 94062\nOrganized by FIRST
  Robotics Competition (FRC) team 100 The Wildhats\n\nSchedule\nTeams Check
 -In at 8am\nCoaches Meeting at 8:30am\nOpening Ceremony and Visitors Welco
 me at 9am\nRobot Rounds (and Team Judging) start at 9:30am\nAward Ceremony
  at 4:30pm\nDetailed team schedule  - teams are randomly assigned a pit n
 umber\nCapacity for 16 teams\nParking on site at school
CATEGORIES:FLL Challenge
LOCATION:Woodside High School\, 199 Churchill Avenue\, Woodside\, CA\, 9406
 2\, PEN\, United States
GEO:37.444475;-122.23135000000002
X-APPLE-STRUCTURED-LOCATION;VALUE=URI;X-ADDRESS=199 Churchill Avenue\, Wood
 side\, CA\, 94062\, PEN\, United States;X-APPLE-RADIUS=100;X-TITLE=Woodsid
 e High School:geo:37.444475,-122.23135000000002
END:VEVENT
BEGIN:VTIMEZONE
TZID:America/Los_Angeles
X-LIC-LOCATION:America/Los_Angeles
BEGIN:STANDARD
DTSTART:20161106T010000
TZOFFSETFROM:-0700
TZOFFSETTO:-0800
TZNAME:PST
END:STANDARD
END:VTIMEZONE
END:VCALENDAR