BEGIN:VCALENDAR
VERSION:2.0
PRODID:-//wp-events-plugin.com//6.6.4.4//EN
TZID:America/Los_Angeles
X-WR-TIMEZONE:America/Los_Angeles
BEGIN:VEVENT
UID:253@playingatlearning.org
DTSTART;TZID=America/Los_Angeles:20191116T080000
DTEND;TZID=America/Los_Angeles:20191116T170000
DTSTAMP:20190916T155640Z
URL:https://www.playingatlearning.org/events/norcal-nov-16-fairfield-fll-q
 t/
SUMMARY:NorCal Nov 16 - Vanden HS Fairfield FLL QT
DESCRIPTION:Organized in coordination with FIRST Robotics Competition (FRC
 ) Team 701\, RoboVikes\n\nSign up to be a Volunteer\nVolunteer Roles\, Ho
 w To Volunteer\, More information about volunteering\n\n\nSCHEDULE\n\nTea
 ms Check-In &amp\; Pit setup at 8am\nCoaches Meeting at 8:30am\nOpening Ce
 remony and Visitors Welcome at 9am\nRobot Rounds (and Team Judging) start 
 at 9:30am\n-&gt\; Learn about CITY SHAPER Challenge Overview\, Game Detail
 s\nAward Ceremony at 4:30pm\nDetailed team schedule  - teams are randomly
  assigned a pit number\nCapacity for 16 teams\n
CATEGORIES:FLL Challenge
LOCATION:Vanden High School\, 2951 Markeley Lane\, Fairfield\, CA\, 94533\,
  CAP\, United States
GEO:38.281422;-121.96334589999998
X-APPLE-STRUCTURED-LOCATION;VALUE=URI;X-ADDRESS=2951 Markeley Lane\, Fairfi
 eld\, CA\, 94533\, CAP\, United States;X-APPLE-RADIUS=100;X-TITLE=Vanden H
 igh School:geo:38.281422,-121.96334589999998
END:VEVENT
BEGIN:VTIMEZONE
TZID:America/Los_Angeles
X-LIC-LOCATION:America/Los_Angeles
BEGIN:STANDARD
DTSTART:20191103T010000
TZOFFSETFROM:-0700
TZOFFSETTO:-0800
TZNAME:PST
END:STANDARD
END:VTIMEZONE
END:VCALENDAR