BEGIN:VCALENDAR
VERSION:2.0
PRODID:-//wp-events-plugin.com//6.6.4.4//EN
TZID:America/Los_Angeles
X-WR-TIMEZONE:America/Los_Angeles
BEGIN:VEVENT
UID:255@playingatlearning.org
DTSTART;TZID=America/Los_Angeles:20191116T080000
DTEND;TZID=America/Los_Angeles:20191116T170000
DTSTAMP:20190916T014558Z
URL:https://www.playingatlearning.org/events/norcal-nov-16-intel-folsom-fl
 l-qt/
SUMMARY:NorCal Nov 16 - Intel Folsom FLL QT
DESCRIPTION:\nSign up to be a Volunteer\nVolunteer Roles\, How To Voluntee
 r\, More information about volunteering\n\n\nSCHEDULE\n\nTeams Check-In &
 amp\; Pit setup at 8am\nCoaches Meeting at 8:30am\nOpening Ceremony and Vi
 sitors Welcome at 9am\nRobot Rounds (and Team Judging) start at 9:30am\n-&
 gt\; Learn about CITY SHAPER Challenge Overview\, Game Details\nAward Cere
 mony at 4:30pm\nDetailed team schedule  - teams are randomly assigned a p
 it number\nCapacity for 16 teams\nParking in front of FM7 - enter through 
 cafeteria gate on side of building
CATEGORIES:FLL Challenge
LOCATION:Intel Folsom\, 1900 Prairie City Road\, FM7\, Folsom\, CA\, 95630\
 , United States
GEO:38.6459411;-121.1625808
X-APPLE-STRUCTURED-LOCATION;VALUE=URI;X-ADDRESS=1900 Prairie City Road\, FM
 7\, Folsom\, CA\, 95630\, United States;X-APPLE-RADIUS=100;X-TITLE=Intel F
 olsom:geo:38.6459411,-121.1625808
END:VEVENT
BEGIN:VTIMEZONE
TZID:America/Los_Angeles
X-LIC-LOCATION:America/Los_Angeles
BEGIN:STANDARD
DTSTART:20191103T010000
TZOFFSETFROM:-0700
TZOFFSETTO:-0800
TZNAME:PST
END:STANDARD
END:VTIMEZONE
END:VCALENDAR