BEGIN:VCALENDAR
VERSION:2.0
PRODID:-//wp-events-plugin.com//6.6.4.4//EN
TZID:America/Los_Angeles
X-WR-TIMEZONE:America/Los_Angeles
BEGIN:VEVENT
UID:256@playingatlearning.org
DTSTART;TZID=America/Los_Angeles:20191116T080000
DTEND;TZID=America/Los_Angeles:20191116T170000
DTSTAMP:20190916T015350Z
URL:https://www.playingatlearning.org/events/norcal-nov-16-lelandhs-sanjos
 e-fll-qt/
SUMMARY:NorCal Nov 16 - Quixilver at Leland HS\, San Jose FLL QT
DESCRIPTION:QUIXILVER QT - organized by FIRST Robotics Competition (FRC) Te
 am 604 Quixilver\n\nSign up to be a Volunteer\nVolunteer Roles\, How To V
 olunteer\, More information about volunteering\n\n\nSCHEDULE\n\nTeams Che
 ck-In &amp\; Pit setup at 8am\nCoaches Meeting at 8:30am\nOpening Ceremony
  and Visitors Welcome at 9am\nRobot Rounds (and Team Judging) start at 9:3
 0am\n-&gt\; Learn about CITY SHAPER Challenge Overview\, Game Details\nAwa
 rd Ceremony at 4:30pm\nDetailed team schedule  - teams are randomly assig
 ned a pit number\nCapacity for 16 teams\nParking onsite at school
CATEGORIES:FLL Challenge
LOCATION:Leland High School\, 6677 Camden Avenue\, San Jose\, CA\, 95120\, 
 SV\, United States
GEO:37.217404;-121.844403
X-APPLE-STRUCTURED-LOCATION;VALUE=URI;X-ADDRESS=6677 Camden Avenue\, San Jo
 se\, CA\, 95120\, SV\, United States;X-APPLE-RADIUS=100;X-TITLE=Leland Hig
 h School:geo:37.217404,-121.844403
END:VEVENT
BEGIN:VTIMEZONE
TZID:America/Los_Angeles
X-LIC-LOCATION:America/Los_Angeles
BEGIN:STANDARD
DTSTART:20191103T010000
TZOFFSETFROM:-0700
TZOFFSETTO:-0800
TZNAME:PST
END:STANDARD
END:VTIMEZONE
END:VCALENDAR