BEGIN:VCALENDAR
VERSION:2.0
PRODID:-//wp-events-plugin.com//6.6.4.4//EN
TZID:America/Los_Angeles
X-WR-TIMEZONE:America/Los_Angeles
BEGIN:VEVENT
UID:260@playingatlearning.org
DTSTART;TZID=America/Los_Angeles:20191116T080000
DTEND;TZID=America/Los_Angeles:20191116T170000
DTSTAMP:20190916T021144Z
URL:https://www.playingatlearning.org/events/norcal-nov-16-msje-fremont-fl
 l-qt/
SUMMARY:NorCal Nov 16 - MSJE Fremont FLL QT
DESCRIPTION:Organized in coordination with FIRST Tech Challenge (FTC) Team
   11099 Tacobots\n\nSign up to be a Volunteer\nVolunteer Roles\, How To 
 Volunteer\, More information about volunteering\n\n\nSCHEDULE\n\nTeams Ch
 eck-In &amp\; Pit setup at 8am\nCoaches Meeting at 8:30am\nOpening Ceremon
 y and Visitors Welcome at 9am\nRobot Rounds (and Team Judging) start at 9:
 30am\n-&gt\; Learn about CITY SHAPER Challenge Overview\, Game Details\nAw
 ard Ceremony at 4:30pm\nDetailed team schedule  - teams are randomly assi
 gned a pit number\nCapacity for 16 teams\nFree Parking at school\n&nbsp\;
CATEGORIES:FLL Challenge
LOCATION:Mission San Jose Elementary School\, 43545 Bryant St\, Fremont\, C
 A\, 94539\, EB\, United States
GEO:37.5282681;-121.9222403
X-APPLE-STRUCTURED-LOCATION;VALUE=URI;X-ADDRESS=43545 Bryant St\, Fremont\,
  CA\, 94539\, EB\, United States;X-APPLE-RADIUS=100;X-TITLE=Mission San Jo
 se Elementary School:geo:37.5282681,-121.9222403
END:VEVENT
BEGIN:VTIMEZONE
TZID:America/Los_Angeles
X-LIC-LOCATION:America/Los_Angeles
BEGIN:STANDARD
DTSTART:20191103T010000
TZOFFSETFROM:-0700
TZOFFSETTO:-0800
TZNAME:PST
END:STANDARD
END:VTIMEZONE
END:VCALENDAR