BEGIN:VCALENDAR
VERSION:2.0
PRODID:-//wp-events-plugin.com//6.6.4.4//EN
TZID:America/Los_Angeles
X-WR-TIMEZONE:America/Los_Angeles
BEGIN:VEVENT
UID:183@playingatlearning.org
DTSTART;TZID=America/Los_Angeles:20181117T080000
DTEND;TZID=America/Los_Angeles:20181117T170000
DTSTAMP:20181005T030559Z
URL:https://www.playingatlearning.org/events/norcal-nov-17-santaclarahs-sa
 nta-clara-fll-qt-2018/
SUMMARY:NorCal Nov 17 - Santa Clara HS\, Santa Clara FLL QT
DESCRIPTION:Sign up to be a Volunteer   (Volunteer Roles\, How To Volunte
 er\, More information about volunteering)\nOrganized by the 49ers STEM Le
 adership Institute\nDay Overview\nTeams Check-In at 8am\nCoaches Meeting a
 t 8:30am\nOpening Ceremony and Visitors Welcome at 9am\nRobot Rounds (and 
 Team Judging) start at 9:30am\n.   -&gt\; Learn about Into Orbit Challeng
 e Overview\nAward Ceremony at 4:30pm\nDetailed team schedule  - teams are
  randomly assigned a pit number\nCapacity for 16 teams\nParking onsite at 
 school
CATEGORIES:FLL Challenge
LOCATION:Santa Clara HS\, 3000 Benton Street\, Santa Clara\, CA\, 95051\, S
 V\, United States
GEO:37.345978;-121.982773
X-APPLE-STRUCTURED-LOCATION;VALUE=URI;X-ADDRESS=3000 Benton Street\, Santa 
 Clara\, CA\, 95051\, SV\, United States;X-APPLE-RADIUS=100;X-TITLE=Santa C
 lara HS:geo:37.345978,-121.982773
END:VEVENT
BEGIN:VTIMEZONE
TZID:America/Los_Angeles
X-LIC-LOCATION:America/Los_Angeles
BEGIN:STANDARD
DTSTART:20181104T010000
TZOFFSETFROM:-0700
TZOFFSETTO:-0800
TZNAME:PST
END:STANDARD
END:VTIMEZONE
END:VCALENDAR