BEGIN:VCALENDAR
VERSION:2.0
PRODID:-//wp-events-plugin.com//6.6.4.4//EN
TZID:America/Los_Angeles
X-WR-TIMEZONE:America/Los_Angeles
BEGIN:VEVENT
UID:113@playingatlearning.org
DTSTART;TZID=America/Los_Angeles:20171119T080000
DTEND;TZID=America/Los_Angeles:20171119T170000
DTSTAMP:20171114T070908Z
URL:https://www.playingatlearning.org/events/norcal-nov-19-girl-scouts-at-
 nasa-ames-mt-view-fll-qt-2/
SUMMARY:NorCal Nov 19 - Girl Scouts at NASA Ames\, Mt View FLL QT
DESCRIPTION:Sign up to be a Volunteer - zip code 94035\nOrganized by FIRST
  Robotics Competition (FRC) Team 1868 Space Cookies\n\nSchedule\nTeams Che
 ck-In at 8am\nCoaches Meeting at 8:30am\nOpening Ceremony and Visitors Wel
 come at 9am\nRobot Rounds (and Team Judging) start at 9:30am\nAward Ceremo
 ny at 4:30pm\nDetailed team schedule  - teams are randomly assigned a pit
  number\nCapacity for 16 teams\nParking on site.    Google Map\nNote tha
 t this is onsite at Moffett Field.\nEntry Procedures\nAll Adults must show
  a valid\, officially-issued picture identification at the NASA Research P
 ark gate on Moffett Boulevard to enter onto the NASA Research Park\, whe
 re the NACC is located.\n
CATEGORIES:FLL Challenge
LOCATION:NASA Ames Research Center\, Building 152\, Moffett Field\, 200 Dai
 ley Road\, Mountain View\, CA\, 94035\, PEN\, United States
GEO:37.407571;-122.056677
X-APPLE-STRUCTURED-LOCATION;VALUE=URI;X-ADDRESS=200 Dailey Road\, Mountain 
 View\, CA\, 94035\, PEN\, United States;X-APPLE-RADIUS=100;X-TITLE=NASA Am
 es Research Center\, Building 152\, Moffett Field:geo:37.407571,-122.05667
 7
END:VEVENT
BEGIN:VTIMEZONE
TZID:America/Los_Angeles
X-LIC-LOCATION:America/Los_Angeles
BEGIN:STANDARD
DTSTART:20171105T010000
TZOFFSETFROM:-0700
TZOFFSETTO:-0800
TZNAME:PST
END:STANDARD
END:VTIMEZONE
END:VCALENDAR