BEGIN:VCALENDAR
VERSION:2.0
PRODID:-//wp-events-plugin.com//6.6.4.4//EN
TZID:America/Los_Angeles
X-WR-TIMEZONE:America/Los_Angeles
BEGIN:VEVENT
UID:48@playingatlearning.org
DTSTART;TZID=America/Los_Angeles:20161119T080000
DTEND;TZID=America/Los_Angeles:20161119T170000
DTSTAMP:20161019T164752Z
URL:https://www.playingatlearning.org/events/norcal-nov-19-hacienda-env-sc
 ience-magnet-san-jose-fll-qt/
SUMMARY:NorCal Nov 19 – Hacienda Env. Science Magnet\, San Jose FLL QT
DESCRIPTION:Sign up to be a Volunteer - zip 95118\n\nSchedule\nTeams Chec
 k-In at 8am\nCoaches Meeting at 8:30am\nOpening Ceremony and Visitors Welc
 ome at 9am\nRobot Rounds (and Team Judging) start at 9:30am\nAward Ceremon
 y at 4:30pm\nDetailed team schedule  - teams are randomly assigned a pit 
 number
CATEGORIES:FLL Challenge
LOCATION:Hacienda Magnet School\, 1290 Kimberly Drive\, San Jose\, CA\, 951
 18\, SV\, United States
GEO:37.2695342;-121.883218
X-APPLE-STRUCTURED-LOCATION;VALUE=URI;X-ADDRESS=1290 Kimberly Drive\, San J
 ose\, CA\, 95118\, SV\, United States;X-APPLE-RADIUS=100;X-TITLE=Hacienda 
 Magnet School:geo:37.2695342,-121.883218
END:VEVENT
BEGIN:VTIMEZONE
TZID:America/Los_Angeles
X-LIC-LOCATION:America/Los_Angeles
BEGIN:STANDARD
DTSTART:20161106T010000
TZOFFSETFROM:-0700
TZOFFSETTO:-0800
TZNAME:PST
END:STANDARD
END:VTIMEZONE
END:VCALENDAR