BEGIN:VCALENDAR
VERSION:2.0
PRODID:-//wp-events-plugin.com//6.6.4.4//EN
TZID:America/Los_Angeles
X-WR-TIMEZONE:America/Los_Angeles
BEGIN:VEVENT
UID:96@playingatlearning.org
DTSTART;TZID=America/Los_Angeles:20171119T080000
DTEND;TZID=America/Los_Angeles:20171119T170000
DTSTAMP:20170921T035741Z
URL:https://www.playingatlearning.org/events/norcal-nov-19-intel-folsom-fl
 l-qt-2/
SUMMARY:NorCal Nov 19  - Intel Folsom FLL QT
DESCRIPTION:Sign up to be a Volunteer - zip code 95630\nDay Overview\nTea
 ms Check-In at 8am\nCoaches Meeting at 8:30am\nOpening Ceremony and Visito
 rs Welcome at 9am\nRobot Rounds (and Team Judging) start at 9:30am\n    
   Learn about HydroDynamics Challenge Overview\,  Videos: Project\, Robo
 t Game\nAward Ceremony at 4:30pm\nDetailed team schedule  - teams are ran
 domly assigned a pit number\nCapacity for 16 teams\nParking in front of FM
 7 - enter through cafeteria gate on side of building
CATEGORIES:FLL Challenge
LOCATION:Intel Folsom\, 1900 Prairie City Road\, FM7\, Folsom\, CA\, 95630\
 , United States
GEO:38.6459411;-121.1625808
X-APPLE-STRUCTURED-LOCATION;VALUE=URI;X-ADDRESS=1900 Prairie City Road\, FM
 7\, Folsom\, CA\, 95630\, United States;X-APPLE-RADIUS=100;X-TITLE=Intel F
 olsom:geo:38.6459411,-121.1625808
END:VEVENT
BEGIN:VTIMEZONE
TZID:America/Los_Angeles
X-LIC-LOCATION:America/Los_Angeles
BEGIN:STANDARD
DTSTART:20171105T010000
TZOFFSETFROM:-0700
TZOFFSETTO:-0800
TZNAME:PST
END:STANDARD
END:VTIMEZONE
END:VCALENDAR