BEGIN:VCALENDAR
VERSION:2.0
PRODID:-//wp-events-plugin.com//6.6.4.4//EN
TZID:America/Los_Angeles
X-WR-TIMEZONE:America/Los_Angeles
BEGIN:VEVENT
UID:132@playingatlearning.org
DTSTART;TZID=America/Los_Angeles:20171119T080000
DTEND;TZID=America/Los_Angeles:20171119T170000
DTSTAMP:20171026T052326Z
URL:https://www.playingatlearning.org/events/norcal-nov-19-livermore-fll-q
 t/
SUMMARY:NorCal Nov 19 – Livermore FLL QT
DESCRIPTION:Sign up to be a Volunteer  - zip 94551\n\nDay Overview\n\nTeam
 s Check-In at 8am\nCoaches Meeting at 8:30am\nOpening Ceremony and Visitor
 s Welcome at 9am\nRobot Rounds (and Team Judging) start at 9:30am\n.   -&
 gt\; Learn about HydroDynamics Challenge Overview\,  Videos: Project\, Ro
 bot Game\n\nAward Ceremony at 4:30pm\n\nDetailed team schedule  - teams a
 re randomly assigned a pit number\n\nCapacity for 16 teams\n\n&nbsp\;
CATEGORIES:FLL Challenge
LOCATION:Livermore 704 Hangar\, 704 Terminal Circle\, Livermore\, CA\, 9455
 1\, EB\, United States
GEO:37.6962958;-121.81833110000002
X-APPLE-STRUCTURED-LOCATION;VALUE=URI;X-ADDRESS=704 Terminal Circle\, Liver
 more\, CA\, 94551\, EB\, United States;X-APPLE-RADIUS=100;X-TITLE=Livermor
 e 704 Hangar:geo:37.6962958,-121.81833110000002
END:VEVENT
BEGIN:VTIMEZONE
TZID:America/Los_Angeles
X-LIC-LOCATION:America/Los_Angeles
BEGIN:STANDARD
DTSTART:20171105T010000
TZOFFSETFROM:-0700
TZOFFSETTO:-0800
TZNAME:PST
END:STANDARD
END:VTIMEZONE
END:VCALENDAR