BEGIN:VCALENDAR
VERSION:2.0
PRODID:-//wp-events-plugin.com//6.6.4.4//EN
TZID:America/Los_Angeles
X-WR-TIMEZONE:America/Los_Angeles
BEGIN:VEVENT
UID:129@playingatlearning.org
DTSTART;TZID=America/Los_Angeles:20171119T080000
DTEND;TZID=America/Los_Angeles:20171119T170000
DTSTAMP:20171022T192418Z
URL:https://www.playingatlearning.org/events/norcal-nov-19-lycee-sf-fll-qt
 /
SUMMARY:NorCal Nov 19 - Lycee Francais de San Francisco FLL QT
DESCRIPTION:Sign up to be a Volunteer  (on firstinspires.org site – log
 in required) – More Information\n\nDay Overview\n\nTeams Check-In at 8a
 m\nCoaches Meeting at 8:30am\nOpening Ceremony and Visitors Welcome at 9am
 \nRobot Rounds (and Team Judging) start at 9:30am\n.   -&gt\; Learn about
  HydroDynamics Challenge Overview\,  Videos: Project\, Robot Game\n\nAwar
 d Ceremony at 4:30pm\n\nDetailed team schedule  - teams are randomly assi
 gned a pit number\n\nCapacity for 12 teams\n\nParking is extremely limited
 !
CATEGORIES:FLL Challenge
LOCATION:Lycee Francais de San Francisco\, 1201 Ortega Street\, San Francis
 co\, CA\, 94122\, PEN\, United States
GEO:37.75212272709178;-122.47654905026246
X-APPLE-STRUCTURED-LOCATION;VALUE=URI;X-ADDRESS=1201 Ortega Street\, San Fr
 ancisco\, CA\, 94122\, PEN\, United States;X-APPLE-RADIUS=100;X-TITLE=Lyce
 e Francais de San Francisco:geo:37.75212272709178,-122.47654905026246
END:VEVENT
BEGIN:VTIMEZONE
TZID:America/Los_Angeles
X-LIC-LOCATION:America/Los_Angeles
BEGIN:STANDARD
DTSTART:20171105T010000
TZOFFSETFROM:-0700
TZOFFSETTO:-0800
TZNAME:PST
END:STANDARD
END:VTIMEZONE
END:VCALENDAR