BEGIN:VCALENDAR
VERSION:2.0
PRODID:-//wp-events-plugin.com//6.6.4.4//EN
TZID:America/Los_Angeles
X-WR-TIMEZONE:America/Los_Angeles
BEGIN:VEVENT
UID:118@playingatlearning.org
DTSTART;TZID=America/Los_Angeles:20171119T080000
DTEND;TZID=America/Los_Angeles:20171119T170000
DTSTAMP:20171007T035756Z
URL:https://www.playingatlearning.org/events/norcal-nov-19-pghs-red-fll-qt
 /
SUMMARY:NorCal Nov 19 - Pleasant Grove HS RED FLL QT
DESCRIPTION:Sign up to be a Volunteer - zip code 95624\nOrganized by FIRST
  Robotics Competition (FRC) Team 2073 EagleForce\n\nSchedule\nTeams Check-
 In at 8am\nCoaches Meeting at 8:30am\nOpening Ceremony and Visitors Welcom
 e at 9am\nRobot Rounds (and Team Judging) start at 9:30am\nAward Ceremony 
 at 4:30pm\nDetailed team schedule  - teams are randomly assigned a pit nu
 mber\nCapacity for 16 teams\nParking on site - note location of event is a
 t the High School
CATEGORIES:FLL Challenge
LOCATION:Pleasant Grove HS\, 9531 Bond Road\, Elk Grove\, CA\, 95624\, CAP\
 , United States
GEO:38.426216;-121.341179
X-APPLE-STRUCTURED-LOCATION;VALUE=URI;X-ADDRESS=9531 Bond Road\, Elk Grove\
 , CA\, 95624\, CAP\, United States;X-APPLE-RADIUS=100;X-TITLE=Pleasant Gro
 ve HS:geo:38.426216,-121.341179
END:VEVENT
BEGIN:VTIMEZONE
TZID:America/Los_Angeles
X-LIC-LOCATION:America/Los_Angeles
BEGIN:STANDARD
DTSTART:20171105T010000
TZOFFSETFROM:-0700
TZOFFSETTO:-0800
TZNAME:PST
END:STANDARD
END:VTIMEZONE
END:VCALENDAR