BEGIN:VCALENDAR
VERSION:2.0
PRODID:-//wp-events-plugin.com//6.6.4.4//EN
TZID:America/Los_Angeles
X-WR-TIMEZONE:America/Los_Angeles
BEGIN:VEVENT
UID:97@playingatlearning.org
DTSTART;TZID=America/Los_Angeles:20171119T080000
DTEND;TZID=America/Los_Angeles:20171119T170000
DTSTAMP:20170921T035615Z
URL:https://www.playingatlearning.org/events/norcal-nov-19-santa-teresa-hs
 -san-jose-fll-qt/
SUMMARY:NorCal Nov 19 - Santa Teresa HS\, San Jose FLL QT
DESCRIPTION:Sign up to be a Volunteer - zip code 95123\nOrganized by FIRST
  Robotics Competition (FRC) Team 2643 Dark Matter\n\nEvent website\nDay O
 verview\nTeams Check-In at 8am\nCoaches Meeting at 8:30am\nOpening Ceremon
 y and Visitors Welcome at 9am\nRobot Rounds (and Team Judging) start at 9:
 30am\nLearn about HydroDynamics Challenge Overview\,  Videos: Project\, R
 obot Game\nAward Ceremony at 4:30pm\nDetailed team schedule  - teams are 
 randomly assigned a pit number\nCapacity for 16 teams\nParking onsite at s
 chool
CATEGORIES:FLL Challenge
LOCATION:Santa Teresa High School\, 6150 Snell Avenue\, San Jose\, CA\, 951
 23\, SV\, United States
GEO:37.235137;-121.828884
X-APPLE-STRUCTURED-LOCATION;VALUE=URI;X-ADDRESS=6150 Snell Avenue\, San Jos
 e\, CA\, 95123\, SV\, United States;X-APPLE-RADIUS=100;X-TITLE=Santa Teres
 a High School:geo:37.235137,-121.828884
END:VEVENT
BEGIN:VTIMEZONE
TZID:America/Los_Angeles
X-LIC-LOCATION:America/Los_Angeles
BEGIN:STANDARD
DTSTART:20171105T010000
TZOFFSETFROM:-0700
TZOFFSETTO:-0800
TZNAME:PST
END:STANDARD
END:VTIMEZONE
END:VCALENDAR