BEGIN:VCALENDAR
VERSION:2.0
PRODID:-//wp-events-plugin.com//6.6.4.4//EN
TZID:America/Los_Angeles
X-WR-TIMEZONE:America/Los_Angeles
BEGIN:VEVENT
UID:186@playingatlearning.org
DTSTART;TZID=America/Los_Angeles:20181118T080000
DTEND;TZID=America/Los_Angeles:20181118T170000
DTSTAMP:20181005T031223Z
URL:https://www.playingatlearning.org/events/norcal-nov-19-santateresahs-s
 anjose-fll-qt-2018/
SUMMARY:NorCal Nov 18 - Santa Teresa HS\, San Jose FLL QT
DESCRIPTION:Sign up to be a Volunteer   (Volunteer Roles\, How To Volunte
 er\, More information about volunteering)\nOrganized by FIRST Robotics Co
 mpetition (FRC) Team 2643 Dark Matter\n\nEvent website\nDay Overview\nTea
 ms Check-In at 8am\nCoaches Meeting at 8:30am\nOpening Ceremony and Visito
 rs Welcome at 9am\nRobot Rounds (and Team Judging) start at 9:30am\n.   -
 &gt\; Learn about Into Orbit Challenge Overview\nAward Ceremony at 4:30pm\
 nDetailed team schedule  - teams are randomly assigned a pit number\nCapa
 city for 16 teams\nParking onsite at school
CATEGORIES:FLL Challenge
LOCATION:Santa Teresa High School\, 6150 Snell Avenue\, San Jose\, CA\, 951
 23\, SV\, United States
GEO:37.235137;-121.828884
X-APPLE-STRUCTURED-LOCATION;VALUE=URI;X-ADDRESS=6150 Snell Avenue\, San Jos
 e\, CA\, 95123\, SV\, United States;X-APPLE-RADIUS=100;X-TITLE=Santa Teres
 a High School:geo:37.235137,-121.828884
END:VEVENT
BEGIN:VTIMEZONE
TZID:America/Los_Angeles
X-LIC-LOCATION:America/Los_Angeles
BEGIN:STANDARD
DTSTART:20181104T010000
TZOFFSETFROM:-0700
TZOFFSETTO:-0800
TZNAME:PST
END:STANDARD
END:VTIMEZONE
END:VCALENDAR