BEGIN:VCALENDAR
VERSION:2.0
PRODID:-//wp-events-plugin.com//6.6.4.4//EN
TZID:America/Los_Angeles
X-WR-TIMEZONE:America/Los_Angeles
BEGIN:VEVENT
UID:89@playingatlearning.org
DTSTART;TZID=America/Los_Angeles:20171119T080000
DTEND;TZID=America/Los_Angeles:20171119T170000
DTSTAMP:20170925T012908Z
URL:https://www.playingatlearning.org/events/norcal-nov-19-valley-christia
 n-hs-san-jose-fll-qt/
SUMMARY:NorCal Nov 19 - VCS Blue at Valley Christian HS\, San Jose FLL QT
DESCRIPTION:This is a dual event - 2 separate Qualifier Tournaments at 1 si
 te.\n\nVCS Blue\n\nSign up to be a Volunteer- zip code  95111\nPark near 
 football/soccer stadium\nOrganized by FIRST Robotics Competition (FRC) Tea
 m 3256 WarriorBorgs\n\nDay Overview\nTeams Check-In at 8am\nCoaches Meetin
 g at 8:30am\nOpening Ceremony and Visitors Welcome at 9am\nRobot Rounds (a
 nd Team Judging) start at 9:30am\n      Learn about HydroDynamics Chall
 enge Overview\,  Videos: Project\, Robot Game\nAward Ceremony at 4:30pm\n
 Detailed team schedule  - teams are randomly assigned a pit number\nCapac
 ity for 16 teams\n
CATEGORIES:FLL Challenge
LOCATION:Valley Christian High School\, 100 Skyway Drive\, San Jose\, CA\, 
 95111\, SV\, United States
GEO:37.275849;-121.826521
X-APPLE-STRUCTURED-LOCATION;VALUE=URI;X-ADDRESS=100 Skyway Drive\, San Jose
 \, CA\, 95111\, SV\, United States;X-APPLE-RADIUS=100;X-TITLE=Valley Chris
 tian High School:geo:37.275849,-121.826521
END:VEVENT
BEGIN:VTIMEZONE
TZID:America/Los_Angeles
X-LIC-LOCATION:America/Los_Angeles
BEGIN:STANDARD
DTSTART:20171105T010000
TZOFFSETFROM:-0700
TZOFFSETTO:-0800
TZNAME:PST
END:STANDARD
END:VTIMEZONE
END:VCALENDAR