BEGIN:VCALENDAR
VERSION:2.0
PRODID:-//wp-events-plugin.com//6.6.4.4//EN
TZID:America/Los_Angeles
X-WR-TIMEZONE:America/Los_Angeles
BEGIN:VEVENT
UID:39@playingatlearning.org
DTSTART;TZID=America/Los_Angeles:20161120T080000
DTEND;TZID=America/Los_Angeles:20161120T170000
DTSTAMP:20161009T002005Z
URL:https://www.playingatlearning.org/events/norcal-nov-20-lowell-hs-san-f
 rancisco-fll-qt/
SUMMARY:NorCal Nov 20 - Lowell HS\, San Francisco FLL QT
DESCRIPTION:Sign up to be a Volunteer - zip code 94132\nOrganized by FIRST
  Robotics Competition (FRC) Team 4159 CardinalBotics\n\nSchedule\nTeams Ch
 eck-In at 8am\nCoaches Meeting at 8:30am\nOpening Ceremony and Visitors We
 lcome at 9am\nRobot Rounds (and Team Judging) start at 9:30am\nAward Cerem
 ony at 4:30pm\nDetailed team schedule  - teams are randomly assigned a pi
 t number\nCapacity for 16 teams\nParking onsite at school
CATEGORIES:FLL Challenge
LOCATION:Lowell HS\, 1101 Eucalyptus Drive\, San Francisco\, CA\, 954132\, 
 EB\, United States
GEO:37.730316;-122.482864
X-APPLE-STRUCTURED-LOCATION;VALUE=URI;X-ADDRESS=1101 Eucalyptus Drive\, San
  Francisco\, CA\, 954132\, EB\, United States;X-APPLE-RADIUS=100;X-TITLE=L
 owell HS:geo:37.730316,-122.482864
END:VEVENT
BEGIN:VTIMEZONE
TZID:America/Los_Angeles
X-LIC-LOCATION:America/Los_Angeles
BEGIN:STANDARD
DTSTART:20161106T010000
TZOFFSETFROM:-0700
TZOFFSETTO:-0800
TZNAME:PST
END:STANDARD
END:VTIMEZONE
END:VCALENDAR