BEGIN:VCALENDAR
VERSION:2.0
PRODID:-//wp-events-plugin.com//6.6.4.4//EN
TZID:America/Los_Angeles
X-WR-TIMEZONE:America/Los_Angeles
BEGIN:VEVENT
UID:168@playingatlearning.org
DTSTART;TZID=America/Los_Angeles:20181103T080000
DTEND;TZID=America/Los_Angeles:20181103T170000
DTSTAMP:20181004T235649Z
URL:https://www.playingatlearning.org/events/norcal-nov-3-amazon-fll-qt/
SUMMARY:NorCal Nov 03 - Amazon FLL QT
DESCRIPTION:Sign up to be a Volunteer     (Volunteer Roles\, How To Volu
 nteer\, More information about volunteering)\n\nSchedule\nTeams Check-In 
 &amp\; Pit setup at 8am\nCoaches Meeting at 8:30am\nOpening Ceremony and V
 isitors Welcome at 9am\nRobot Rounds (and Team Judging) start at 9:30am\n-
 &gt\; Learn about Into Orbit Challenge Overview\nAward Ceremony at 4:30p
 m\nDetailed team schedule  - teams are randomly assigned a pit number\nCa
 pacity for 16 teams\n
CATEGORIES:FLL Challenge
LOCATION:Amazon Sunnyvale Lab 126\, 905 11th Ave\, Sunnyvale\, CA\, 94089\,
  PEN\, United States
GEO:37.4071142;-122.03498100000002
X-APPLE-STRUCTURED-LOCATION;VALUE=URI;X-ADDRESS=905 11th Ave\, Sunnyvale\, 
 CA\, 94089\, PEN\, United States;X-APPLE-RADIUS=100;X-TITLE=Amazon Sunnyva
 le Lab 126:geo:37.4071142,-122.03498100000002
END:VEVENT
BEGIN:VTIMEZONE
TZID:America/Los_Angeles
X-LIC-LOCATION:America/Los_Angeles
BEGIN:DAYLIGHT
DTSTART:20180311T030000
TZOFFSETFROM:-0800
TZOFFSETTO:-0700
TZNAME:PDT
END:DAYLIGHT
END:VTIMEZONE
END:VCALENDAR