BEGIN:VCALENDAR
VERSION:2.0
PRODID:-//wp-events-plugin.com//6.6.4.4//EN
TZID:America/Los_Angeles
X-WR-TIMEZONE:America/Los_Angeles
BEGIN:VEVENT
UID:254@playingatlearning.org
DTSTART;TZID=America/Los_Angeles:20191116T080000
DTEND;TZID=America/Los_Angeles:20191116T170000
DTSTAMP:20190916T014405Z
URL:https://www.playingatlearning.org/events/norcal-nov16-beyerhs-modesto-
 fll-qt/
SUMMARY:NorCal Nov 16 - Beyer HS\, Modesto FLL QT
DESCRIPTION:IRON PATRIOT FEST - Organized by FIRST Robotics Competition (FR
 C) Team 4135 Beyer Robotics and FIRST Tech Challenge (FTC) teams 4157 Tita
 nium Patriots and 5211 Plasma Patriots\n\nSign up to be a Volunteer\nVolun
 teer Roles\, How To Volunteer\, More information about volunteering\n\n\
 nSCHEDULE\n\nTeams Check-In &amp\; Pit setup at 8am\nCoaches Meeting at 8:
 30am\nOpening Ceremony and Visitors Welcome at 9am\nRobot Rounds (and Team
  Judging) start at 9:30am\n-&gt\; Learn about CITY SHAPER Challenge Overvi
 ew\, Game Details\nAward Ceremony at 4:30pm\nDetailed team schedule  - te
 ams are randomly assigned a pit number\nCapacity for 16 teams\nParking ons
 ite at school
CATEGORIES:FLL Challenge
LOCATION:Beyer HS\, 1717 Sylvan Avenue\, Modesto\, CA\, 95355\, CAP\, Unite
 d States
GEO:37.690323;-120.966537
X-APPLE-STRUCTURED-LOCATION;VALUE=URI;X-ADDRESS=1717 Sylvan Avenue\, Modest
 o\, CA\, 95355\, CAP\, United States;X-APPLE-RADIUS=100;X-TITLE=Beyer HS:g
 eo:37.690323,-120.966537
END:VEVENT
BEGIN:VTIMEZONE
TZID:America/Los_Angeles
X-LIC-LOCATION:America/Los_Angeles
BEGIN:STANDARD
DTSTART:20191103T010000
TZOFFSETFROM:-0700
TZOFFSETTO:-0800
TZNAME:PST
END:STANDARD
END:VTIMEZONE
END:VCALENDAR