BEGIN:VCALENDAR
VERSION:2.0
PRODID:-//wp-events-plugin.com//6.6.4.4//EN
TZID:America/Los_Angeles
X-WR-TIMEZONE:America/Los_Angeles
BEGIN:VEVENT
UID:366@playingatlearning.org
DTSTART;TZID=America/Los_Angeles:20220109T080000
DTEND;TZID=America/Los_Angeles:20220109T173000
DTSTAMP:20211201T200204Z
URL:https://www.playingatlearning.org/events/norcalfll-hybridqt-railway-ju
 dging1/
SUMMARY:NorCal FLL Hybrid QT – RAILWAY – Judging1 Event
DESCRIPTION:Official Hybrid Qualifier Tournament for Competitive League - J
 UDGING\nRAILWAY In Person Game Play date:   Jan 8\, 2022\nRAILWAY  Onli
 ne Judging date:  Jan 9 on Hopin\, hosted by Apple  &lt\;- this event  
   (or chose the other Judging event)\n\nSign up to be a Volunteer\nNot su
 re what role or how to sign up?  Send an email to volunteer@playingatle
 arning.org and a volunteer specialist from Playing At Learning will reach
  out and help you get connected into an event.\nInformation about FIRST 
 LEGO League Challenge Cargo Connect:    Overview\,  Project/Game Upd
 ates\,  Robot Game Rulebook \,  Additional Challenge Resources\n\n\nN
 orCal FLL Qualifying Tournament – JUDGING using Hopin event platform\n\n
 Event will have 24 teams\n\nNorCal Event Structure &amp\; Event Registrati
 on Details\n\nIMPORTANT NOTES:\n\n 	Only team members and (1 or both) list
 ed coaches on Team Roster will be admitted to Hopin\, our online event pla
 tform.\n 	Link for award ceremony for family\, friends\, spectators:    
 tbd\n
CATEGORIES:FLL Challenge
END:VEVENT
BEGIN:VTIMEZONE
TZID:America/Los_Angeles
X-LIC-LOCATION:America/Los_Angeles
BEGIN:STANDARD
DTSTART:20211107T010000
TZOFFSETFROM:-0700
TZOFFSETTO:-0800
TZNAME:PST
END:STANDARD
END:VTIMEZONE
END:VCALENDAR