BEGIN:VCALENDAR
VERSION:2.0
PRODID:-//wp-events-plugin.com//6.6.4.4//EN
TZID:America/Los_Angeles
X-WR-TIMEZONE:America/Los_Angeles
BEGIN:VEVENT
UID:321@playingatlearning.org
DTSTART;TZID=America/Los_Angeles:20210314T080000
DTEND;TZID=America/Los_Angeles:20210314T190000
DTSTAMP:20210302T003831Z
URL:https://www.playingatlearning.org/events/piedmont-qualifying-tournamen
 t-ftc-qt-2020/
SUMMARY:Piedmont Remote Qualifying Tournament - FTC QT
DESCRIPTION:(This event was rescheduled from 12/13/20)\n\nQualifying Match 
 play March 8th - 14th\n\nSign up to be a Volunteer - click here\nOrganized
  by: FTC Team 18133\n\nREMOTE EVENT - No location information is needed.\n
 \nInformation about Ultimate Goal Challenge:    One Page Overview\,   
 Game Manual Part 1\,  Game Manual Part 2 \,  Season Resources\n\nNorC
 al FTC Remote Qualifying Tournament Schedule\n\nJudges Check-In at 8am\nTe
 am Judging begins at 9am\nSecond Round of Team Interviews start at 1:30p\n
 Online Award Ceremony at 6:00pm\n\nLink for online award ceremony: Attend 
 the award ceremony by registering with this link.\n\nVirtual Team Presenta
 tions: Click here to see what teams have to share!\n\nCapacity for 24 team
 s
CATEGORIES:FTC
END:VEVENT
BEGIN:VTIMEZONE
TZID:America/Los_Angeles
X-LIC-LOCATION:America/Los_Angeles
BEGIN:DAYLIGHT
DTSTART:20210314T030000
TZOFFSETFROM:-0800
TZOFFSETTO:-0700
TZNAME:PDT
END:DAYLIGHT
END:VTIMEZONE
END:VCALENDAR